BEGIN:VCALENDAR
VERSION:2.0
PRODID:-//ChamberMaster//Event Calendar 2.0//EN
METHOD:PUBLISH
X-PUBLISHED-TTL:P3D
REFRESH-INTERVAL:P3D
CALSCALE:GREGORIAN
BEGIN:VEVENT
DTSTART:20200327T220000Z
DTEND:20200327T230000Z
X-MICROSOFT-CDO-ALLDAYEVENT:FALSE
SUMMARY:Community sweat + flow
DESCRIPTION:join our teacher trainees as they practice to prepare for the graduation. this is a great opportunity to try out the studio\, meet the new voices you'll be hearing + support our tribe members in their journey. think lots of yummy assists\, fun + funky flows + a great time. --- sweat + flow description: sweat + flow is our spin on a vinyasa/flow class. classes are set to music that will ebb and flow with your heart rate as we take you through breath work\, sun salutations\, yummy heart melting pose\, and everything in between. So come find your groove\, belt out a little Whitney Houston if it's in you and let your to-do list melt away as you carve out one hour just for you.
X-ALT-DESC;FMTTYPE=text/html:join our teacher trainees as they practice to prepare for the graduation. this is a great opportunity to try out the studio\, meet the new voices you&#39\;ll be hearing + support our tribe members in their journey. think lots of yummy assists\, fun + funky flows + a great time. --- sweat + flow description: sweat + flow is our spin on a vinyasa/flow class. classes are set to music that will ebb and flow with your heart rate as we take you through breath work\, sun salutations\, yummy heart melting pose\, and everything in between. So come find your groove\, belt out a little Whitney Houston if it&#39\;s in you and let your to-do list melt away as you carve out one hour just for you.
LOCATION:The Daily Sweat 65 Portland RD Building A\, Unit D\, Kennebunk\, ME 04043
UID:e.1923.15640
SEQUENCE:3
DTSTAMP:20260424T174045Z
URL:http://gokennebunks.chambermaster.com/events/details/community-sweat-flow-15640
END:VEVENT

END:VCALENDAR
