BEGIN:VCALENDAR
VERSION:2.0
PRODID:-//ChamberMaster//Event Calendar 2.0//EN
METHOD:PUBLISH
X-PUBLISHED-TTL:P3D
REFRESH-INTERVAL:P3D
CALSCALE:GREGORIAN
BEGIN:VEVENT
DTSTART:20200225T104500Z
DTEND:20200226T004500Z
X-MICROSOFT-CDO-ALLDAYEVENT:FALSE
SUMMARY:Mardi Gras
DESCRIPTION:we wish we were taking you straight to the french quarter for live music\, but instead\, we're dressing up in our purple\, green + gold + partying all day. dress up + take 25% off all purple\, green + gold (sheep) apparel.
X-ALT-DESC;FMTTYPE=text/html:we wish we were taking you straight to the french quarter for live music\, but instead\, we&#39\;re dressing up in our purple\, green + gold + partying all day. dress up + take 25% off all purple\, green + gold (sheep) apparel.
LOCATION:The Daily Sweat 65 Portland RD Building A\, Unit D\, Kennebunk\, ME 04043
UID:e.1923.15615
SEQUENCE:3
DTSTAMP:20260423T042939Z
URL:http://gokennebunks.chambermaster.com/events/details/mardi-gras-15615
END:VEVENT

END:VCALENDAR
