BEGIN:VCALENDAR
VERSION:2.0
PRODID:-//ChamberMaster//Event Calendar 2.0//EN
METHOD:PUBLISH
X-PUBLISHED-TTL:P3D
REFRESH-INTERVAL:P3D
CALSCALE:GREGORIAN
BEGIN:VEVENT
DTSTART:20200314T123000Z
DTEND:20200314T133000Z
X-MICROSOFT-CDO-ALLDAYEVENT:FALSE
SUMMARY:Pi Day
DESCRIPTION:ever taken class in a circle? it can be super powerful. we're shrinking the class size\, finding our flow\, adding a mix of whole class poses + bringing down the energy with a few minutes of our daily restore. yes\, you'll sweat + we wouldn't be us if we didn't let you leave feeling inspired. join us. a slice of pie after isn't required\, but we can point you in the direction if you choose.
X-ALT-DESC;FMTTYPE=text/html:ever taken class in a circle? it can be super powerful. we&#39\;re shrinking the class size\, finding our flow\, adding a mix of whole class poses + bringing down the energy with a few minutes of our daily restore. yes\, you&#39\;ll sweat + we wouldn&#39\;t be us if we didn&#39\;t let you leave feeling inspired. join us. a slice of pie after isn&#39\;t required\, but we can point you in the direction if you choose.
LOCATION:The Daily Sweat 65 Portland RD Building A\, Unit D\, Kennebunk\, ME 04043
UID:e.1923.15635
SEQUENCE:3
DTSTAMP:20260422T060505Z
URL:http://gokennebunks.chambermaster.com/events/details/pi-day-15635
END:VEVENT

END:VCALENDAR
