BEGIN:VCALENDAR
VERSION:2.0
PRODID:-//ChamberMaster//Event Calendar 2.0//EN
METHOD:PUBLISH
X-PUBLISHED-TTL:P3D
REFRESH-INTERVAL:P3D
CALSCALE:GREGORIAN
BEGIN:VEVENT
DTSTART:20200403T200000Z
DTEND:20200403T200000Z
X-MICROSOFT-CDO-ALLDAYEVENT:FALSE
SUMMARY:UNE Brain Fair 2020
DESCRIPTION:The Center for Excellence in the Neurosciences at the University of New England has created an annual Brain Fair to engage the local community in a brain exploration\, in a science museum-like experience. The goal of the fair is to promote interest in STEM disciplines within the greater community. All activities are free and open to the public. Activities are appropriate for ages 4 and up. Fair events include: ice skating\, free helmet fittings and giveaways\, concussion information hands-on microscopy exhibits\, sheep brain and eye ball dissections\, brain health and wellness information\, optical illusions brain games\, virtual reality demos\, muscle stimulation\, neuroscience art\, learning and memory challenges\, brain crafts\, prizes and much more!
X-ALT-DESC;FMTTYPE=text/html:The Center for Excellence in the Neurosciences at the University of New England has created an annual Brain Fair to engage the local community in a brain exploration\, in a science museum-like experience. The goal of the fair is to promote interest in STEM disciplines within the greater community. All activities are free and open to the public. Activities are appropriate for ages 4 and up. Fair events include: ice skating\, free helmet fittings and giveaways\, concussion information hands-on microscopy exhibits\, sheep brain and eye ball dissections\, brain health and wellness information\, optical illusions brain games\, virtual reality demos\, muscle stimulation\, neuroscience art\, learning and memory challenges\, brain crafts\, prizes and much more!
LOCATION:Harold Alfond Forum 630 Pool Street\, Biddeford\, ME 04005
UID:e.1923.15653
SEQUENCE:3
DTSTAMP:20260423T030152Z
URL:http://gokennebunks.chambermaster.com/events/details/une-brain-fair-2020-15653
END:VEVENT

END:VCALENDAR
